BEGIN:VCALENDAR
VERSION:2.0
PRODID:-//Saint Luke Episcopal Church | Mount Joy, PA - ECPv6.15.20//NONSGML v1.0//EN
CALSCALE:GREGORIAN
METHOD:PUBLISH
X-WR-CALNAME:Saint Luke Episcopal Church | Mount Joy, PA
X-ORIGINAL-URL:https://saintlukemountjoy.org
X-WR-CALDESC:Events for Saint Luke Episcopal Church | Mount Joy, PA
REFRESH-INTERVAL;VALUE=DURATION:PT1H
X-Robots-Tag:noindex
X-PUBLISHED-TTL:PT1H
BEGIN:VTIMEZONE
TZID:America/New_York
BEGIN:DAYLIGHT
TZOFFSETFROM:-0500
TZOFFSETTO:-0400
TZNAME:EDT
DTSTART:20240310T070000
END:DAYLIGHT
BEGIN:STANDARD
TZOFFSETFROM:-0400
TZOFFSETTO:-0500
TZNAME:EST
DTSTART:20241103T060000
END:STANDARD
BEGIN:DAYLIGHT
TZOFFSETFROM:-0500
TZOFFSETTO:-0400
TZNAME:EDT
DTSTART:20250309T070000
END:DAYLIGHT
BEGIN:STANDARD
TZOFFSETFROM:-0400
TZOFFSETTO:-0500
TZNAME:EST
DTSTART:20251102T060000
END:STANDARD
BEGIN:DAYLIGHT
TZOFFSETFROM:-0500
TZOFFSETTO:-0400
TZNAME:EDT
DTSTART:20260308T070000
END:DAYLIGHT
BEGIN:STANDARD
TZOFFSETFROM:-0400
TZOFFSETTO:-0500
TZNAME:EST
DTSTART:20261101T060000
END:STANDARD
END:VTIMEZONE
BEGIN:VEVENT
DTSTART;TZID=America/New_York:20250108T100000
DTEND;TZID=America/New_York:20250108T103000
DTSTAMP:20260423T065341
CREATED:20241223T204924Z
LAST-MODIFIED:20241223T205217Z
UID:10000339-1736330400-1736332200@saintlukemountjoy.org
SUMMARY:Morning Prayer:  Honoring Harriet Bedell\, Deaconess and Missionary\, 1969
DESCRIPTION:Join us for Morning Prayer\, Rite II led by the Reverend Martha Harris\, Rector.  Learn about Harriet Bedell\, Deaconess and Missionary who died in 1969. \nBedell was one of the most popular writers in the national Episcopal mission periodical\, The Spirit of Missions. Bedell won the respect of indigenous people through her compassion and respect for their way of life and beliefs. \nScripture Readings: \nRomans 16: 1-2 \nPsalm 96: 1-7 \nMatthew 5: 1-12 \nNot able to join us in person? \nJoin us on Zoom.   Meeting ID 747-885-812   Passcode:  WedMP \nhttps://us02web.zoom.us/j/747885812?pwd=VXNXcGltVCtiZWdiOVZxMy9HcFlDQT09 \n  \n 
URL:https://saintlukemountjoy.org/event/morning-prayer-honoring-harriet-bedell-deaconess-and-missionary-1969/
CATEGORIES:Morning Prayer
ATTACH;FMTTYPE=image/jpeg:https://saintlukemountjoy.org/wp-content/uploads/8673e60a-4ab3-4222-b57b-a6c23eb444db-scaled.jpg
END:VEVENT
BEGIN:VEVENT
DTSTART;TZID=America/New_York:20250115T100000
DTEND;TZID=America/New_York:20250115T103000
DTSTAMP:20260423T065341
CREATED:20250110T023337Z
LAST-MODIFIED:20250110T023337Z
UID:10000341-1736935200-1736937000@saintlukemountjoy.org
SUMMARY:Morning Prayer:  Rite II
DESCRIPTION:Join us for Morning Prayer\, Rite II led by the parishioner Nancy Kiser.  Learn about Richard Meus Benson\, Priest (1915) and Charles Gore\, Bishop (1932) \nScripture Readings: \n1 Kings 19: 9-18 \nPsalm 27: 5-11 \n1 John 4: 7-12 \nJohn 17:6-11 \nNote:  This service will not be available online. \n 
URL:https://saintlukemountjoy.org/event/morning-prayer-rite-ii/
LOCATION:Saint Luke Episcopal Church\, Mount Joy PA
CATEGORIES:Morning Prayer
ATTACH;FMTTYPE=image/jpeg:https://saintlukemountjoy.org/wp-content/uploads/8673e60a-4ab3-4222-b57b-a6c23eb444db-scaled.jpg
END:VEVENT
BEGIN:VEVENT
DTSTART;TZID=America/New_York:20250122T100000
DTEND;TZID=America/New_York:20250122T103000
DTSTAMP:20260423T065342
CREATED:20250110T032550Z
LAST-MODIFIED:20250110T032550Z
UID:10000344-1737540000-1737541800@saintlukemountjoy.org
SUMMARY:Morning Prayer:  Honoring Vincent of Saragossa\, Deacon and Martyr\, 304
DESCRIPTION:Join us for Morning Prayer\, Rite II led by the Br. David Rutledge\, CFC.  Learn about Vincent of Saragossa\, Deacon and Martyr. \n  \nScripture Readings: \nRomans 16: 1-2 \nPsalm 96: 1-7 \nMatthew 5: 1-12 \nNot able to join us in person? \nJoin us on Zoom.   Meeting ID 747-885-812   Passcode:  WedMP \nhttps://us02web.zoom.us/j/747885812?pwd=VXNXcGltVCtiZWdiOVZxMy9HcFlDQT09 \n  \n 
URL:https://saintlukemountjoy.org/event/morning-prayer-honoring-vincent-of-saragossa-deacon-and-martyr-304/
LOCATION:Saint Luke Episcopal Church\, Mount Joy PA
CATEGORIES:Morning Prayer
ATTACH;FMTTYPE=image/jpeg:https://saintlukemountjoy.org/wp-content/uploads/8673e60a-4ab3-4222-b57b-a6c23eb444db-scaled.jpg
END:VEVENT
END:VCALENDAR