BEGIN:VCALENDAR
VERSION:2.0
PRODID:-//Saint Luke Episcopal Church | Mount Joy, PA - ECPv6.15.20//NONSGML v1.0//EN
CALSCALE:GREGORIAN
METHOD:PUBLISH
X-ORIGINAL-URL:https://saintlukemountjoy.org
X-WR-CALDESC:Events for Saint Luke Episcopal Church | Mount Joy, PA
REFRESH-INTERVAL;VALUE=DURATION:PT1H
X-Robots-Tag:noindex
X-PUBLISHED-TTL:PT1H
BEGIN:VTIMEZONE
TZID:America/New_York
BEGIN:DAYLIGHT
TZOFFSETFROM:-0500
TZOFFSETTO:-0400
TZNAME:EDT
DTSTART:20230312T070000
END:DAYLIGHT
BEGIN:STANDARD
TZOFFSETFROM:-0400
TZOFFSETTO:-0500
TZNAME:EST
DTSTART:20231105T060000
END:STANDARD
BEGIN:DAYLIGHT
TZOFFSETFROM:-0500
TZOFFSETTO:-0400
TZNAME:EDT
DTSTART:20240310T070000
END:DAYLIGHT
BEGIN:STANDARD
TZOFFSETFROM:-0400
TZOFFSETTO:-0500
TZNAME:EST
DTSTART:20241103T060000
END:STANDARD
BEGIN:DAYLIGHT
TZOFFSETFROM:-0500
TZOFFSETTO:-0400
TZNAME:EDT
DTSTART:20250309T070000
END:DAYLIGHT
BEGIN:STANDARD
TZOFFSETFROM:-0400
TZOFFSETTO:-0500
TZNAME:EST
DTSTART:20251102T060000
END:STANDARD
END:VTIMEZONE
BEGIN:VEVENT
DTSTART;TZID=America/New_York:20241204T100000
DTEND;TZID=America/New_York:20241204T103000
DTSTAMP:20260423T121126
CREATED:20231227T164432Z
LAST-MODIFIED:20240626T185338Z
UID:10000101-1733306400-1733308200@saintlukemountjoy.org
SUMMARY:Wednesday Morning Prayer
DESCRIPTION:  \nJoin us on the first Wednesday of each month at 9 am at the Mount Joy Friary\, 211 Market Street in Mount Joy.  Enjoy snacks and casual conversation with friends of Morning Prayer. \nOur weekly morning prayer service begins at 10 am to the Saint Francis Room in the Education Building at Saint Luke.   Not able to join us in person\, join us online via ZOOM. \nJoin Zoom Meeting\nhttps://us02web.zoom.us/j/747885812?pwd=VXNXcGltVCtiZWdiOVZxMy9HcFlDQT09\nMeeting ID: 747 885 812\nPasscode: WedMP
URL:https://saintlukemountjoy.org/event/wednesday-morning-prayer-3/2024-12-04/
LOCATION:Saint Luke Episcopal Church\, Mount Joy PA
ATTACH;FMTTYPE=image/jpeg:https://saintlukemountjoy.org/wp-content/uploads/Morning_Prayer_St_Francis.jpg
END:VEVENT
BEGIN:VEVENT
DTSTART;TZID=America/New_York:20241208T110000
DTEND;TZID=America/New_York:20241208T110000
DTSTAMP:20260423T121126
CREATED:20241120T224141Z
LAST-MODIFIED:20241120T224244Z
UID:10000327-1733655600-1733655600@saintlukemountjoy.org
SUMMARY:Second Sunday of Advent - Morning Prayer
DESCRIPTION:Join us on Sunday December 8\, 2024 for a contemplative service of Morning Prayer\, featuring the following scripture passages: \nMalachi 3: 1-4 \nCanticle 16 \nPhilippians 1: 3-11 \nGospel of Luke 3: 1 – 6 \nPrepare your hearts and mind for the birth of our Savior.  Refresh your soul in our beautiful sanctuary. \nJoin us for Coffee Hour at 9:30 am and enjoy the fellowship of your Saint Luke friends. \nNot able to join us in person?  Watch the service on our YouTube channel \n  \n  \n 
URL:https://saintlukemountjoy.org/event/second-sunday-of-advent-morning-prayer/
LOCATION:Saint Luke Episcopal Church\, Mount Joy PA
CATEGORIES:Advent,Morning Prayer
ATTACH;FMTTYPE=image/jpeg:https://saintlukemountjoy.org/wp-content/uploads/IMG_3736-1-e1731612011799.jpg
END:VEVENT
BEGIN:VEVENT
DTSTART;TZID=America/New_York:20241211T100000
DTEND;TZID=America/New_York:20241211T103000
DTSTAMP:20260423T121126
CREATED:20241122T042713Z
LAST-MODIFIED:20241122T042713Z
UID:10000331-1733911200-1733913000@saintlukemountjoy.org
SUMMARY:Morning Prayer:  Frederick Howden\, Jr.
DESCRIPTION:Join us on Wednesday December 11 for our weekly service of Morning Prayer\, Rite II\, led by Brother David Rutledge.   We will remember Frederick Howden\, Jr. Priest and Chaplain of the Armed Forces who died in 1941. \nNot able to join us in person?  Log into the service via ZOOM. \nJoin Zoom Meeting\nhttps://us02web.zoom.us/j/747885812?pwd=VXNXcGltVCtiZWdiOVZxMy9HcFlDQT09\nMeeting ID: 747 885 812\nPasscode: WedMP
URL:https://saintlukemountjoy.org/event/morning-prayer-frederick-howden-jr/
LOCATION:Saint Luke Episcopal Church\, Mount Joy PA
CATEGORIES:Morning Prayer
ATTACH;FMTTYPE=image/jpeg:https://saintlukemountjoy.org/wp-content/uploads/Morning_Prayer_St_Francis.jpg
END:VEVENT
END:VCALENDAR