BEGIN:VCALENDAR
VERSION:2.0
PRODID:-//Saint Luke Episcopal Church | Mount Joy, PA - ECPv6.15.20//NONSGML v1.0//EN
CALSCALE:GREGORIAN
METHOD:PUBLISH
X-ORIGINAL-URL:https://saintlukemountjoy.org
X-WR-CALDESC:Events for Saint Luke Episcopal Church | Mount Joy, PA
REFRESH-INTERVAL;VALUE=DURATION:PT1H
X-Robots-Tag:noindex
X-PUBLISHED-TTL:PT1H
BEGIN:VTIMEZONE
TZID:America/New_York
BEGIN:DAYLIGHT
TZOFFSETFROM:-0500
TZOFFSETTO:-0400
TZNAME:EDT
DTSTART:20240310T070000
END:DAYLIGHT
BEGIN:STANDARD
TZOFFSETFROM:-0400
TZOFFSETTO:-0500
TZNAME:EST
DTSTART:20241103T060000
END:STANDARD
BEGIN:DAYLIGHT
TZOFFSETFROM:-0500
TZOFFSETTO:-0400
TZNAME:EDT
DTSTART:20250309T070000
END:DAYLIGHT
BEGIN:STANDARD
TZOFFSETFROM:-0400
TZOFFSETTO:-0500
TZNAME:EST
DTSTART:20251102T060000
END:STANDARD
BEGIN:DAYLIGHT
TZOFFSETFROM:-0500
TZOFFSETTO:-0400
TZNAME:EDT
DTSTART:20260308T070000
END:DAYLIGHT
BEGIN:STANDARD
TZOFFSETFROM:-0400
TZOFFSETTO:-0500
TZNAME:EST
DTSTART:20261101T060000
END:STANDARD
END:VTIMEZONE
BEGIN:VEVENT
DTSTART;TZID=America/New_York:20251004T170000
DTEND;TZID=America/New_York:20251004T190000
DTSTAMP:20260420T005930
CREATED:20250925T024603Z
LAST-MODIFIED:20250925T025021Z
UID:10000439-1759597200-1759604400@saintlukemountjoy.org
SUMMARY:Taize Worship with Rev. Scott Siciliano
DESCRIPTION:  \n \nJoin us on Saturday October 4\, 2025  at 5 pm for a special Taize worship service led by the Reverend Scott Sciliano\, Pastor of Colonial Park United Church of Christ.  As a former organist and long time friend of Saint Luke\, we look forward to welcoming Scott and appreciating his musical skills and talent.  Scott will lead the chanted prayers and perform one of his own composition. Light a candle for a loved one and nourish your soul in our candlelit sanctuary. \nFollowing the service\, join us for a bonfire and snacks on the lawn outside the church. \nAll are welcome. \n  \n 
URL:https://saintlukemountjoy.org/event/taize-worship-with-rev-scott-siciliano/
LOCATION:Saint Luke Episcopal Church\, Mount Joy PA
CATEGORIES:Community Events,Taize
ATTACH;FMTTYPE=image/jpeg:https://saintlukemountjoy.org/wp-content/uploads/Reverend-Scott-Siciliano.jpg
END:VEVENT
END:VCALENDAR