BEGIN:VCALENDAR
VERSION:2.0
PRODID:-//Saint Luke Episcopal Church | Mount Joy, PA - ECPv6.15.20//NONSGML v1.0//EN
CALSCALE:GREGORIAN
METHOD:PUBLISH
X-WR-CALNAME:Saint Luke Episcopal Church | Mount Joy, PA
X-ORIGINAL-URL:https://saintlukemountjoy.org
X-WR-CALDESC:Events for Saint Luke Episcopal Church | Mount Joy, PA
REFRESH-INTERVAL;VALUE=DURATION:PT1H
X-Robots-Tag:noindex
X-PUBLISHED-TTL:PT1H
BEGIN:VTIMEZONE
TZID:America/New_York
BEGIN:DAYLIGHT
TZOFFSETFROM:-0500
TZOFFSETTO:-0400
TZNAME:EDT
DTSTART:20240310T070000
END:DAYLIGHT
BEGIN:STANDARD
TZOFFSETFROM:-0400
TZOFFSETTO:-0500
TZNAME:EST
DTSTART:20241103T060000
END:STANDARD
BEGIN:DAYLIGHT
TZOFFSETFROM:-0500
TZOFFSETTO:-0400
TZNAME:EDT
DTSTART:20250309T070000
END:DAYLIGHT
BEGIN:STANDARD
TZOFFSETFROM:-0400
TZOFFSETTO:-0500
TZNAME:EST
DTSTART:20251102T060000
END:STANDARD
BEGIN:DAYLIGHT
TZOFFSETFROM:-0500
TZOFFSETTO:-0400
TZNAME:EDT
DTSTART:20260308T070000
END:DAYLIGHT
BEGIN:STANDARD
TZOFFSETFROM:-0400
TZOFFSETTO:-0500
TZNAME:EST
DTSTART:20261101T060000
END:STANDARD
END:VTIMEZONE
BEGIN:VEVENT
DTSTART;TZID=America/New_York:20250918T160000
DTEND;TZID=America/New_York:20250918T190000
DTSTAMP:20260420T112735
CREATED:20250822T184632Z
LAST-MODIFIED:20250822T184645Z
UID:10000429-1758211200-1758222000@saintlukemountjoy.org
SUMMARY:Spaghetti Dinner Fundraiser
DESCRIPTION:Back by popular demand!  Saint Luke’s Hospitality Committee invites you to join us for a Spaghetti Dinner on Thursday September 18\, 2025 from 4 – 7 pm in the Undercroft.   Funds raised will support the outreach ministries of Saint Luke. \nMeals consist of spaghetti and meatballs\, salad\, garlic bread\, dessert and beverage of your choice.  Dine in and take out options available. \nAll for $15\, youth and adults\, 10 and up. \nChildren ages 4 – 9\, $10 \nUnder 4 years old eat free!Where can you get a better Italian meal that at Saint Luke?  Bring your friends and family.  The community is invited.  Call Gail 717-538-0810 to reserve your seat at the table and buy tickets.
URL:https://saintlukemountjoy.org/event/spaghetti-dinner-fundraiser/
LOCATION:Saint Luke Episcopal Church\, Mount Joy PA
CATEGORIES:Community Events,Fundraising Events
ATTACH;FMTTYPE=image/jpeg:https://saintlukemountjoy.org/wp-content/uploads/unnamed.jpg
END:VEVENT
BEGIN:VEVENT
DTSTART;TZID=America/New_York:20250928T110000
DTEND;TZID=America/New_York:20250928T133000
DTSTAMP:20260420T112735
CREATED:20250924T164616Z
LAST-MODIFIED:20250924T164616Z
UID:10000438-1759057200-1759066200@saintlukemountjoy.org
SUMMARY:16th Sunday after Pentecost:  Service of Holy Eucharist Rite II
DESCRIPTION:Join us on Sunday September 28 at 11 am for a service of Holy Eucharist in celebration of the 16th Sunday after Pentecost.  The Reverend Martha Harris\, Saint Luke’s Pastor\, will preach and preside. \nStay after the service and join us in celebrating the retirement of our two beloved organists\, Beth Warren and Tom Breneman.  A covered dish luncheon will be served in the Undercroft where we will share the joy of music\, faith\, food and fellowship.  All are welcome. \nScripture lessons for Sunday are: \nAmos 6: 1a. 4-7 \nPsalm 146 \n1 Timothy 6: 6-19 \nLuke 16:19-31 \nCoffee hour before the service begins at 9:30 am. \nNot able to join us in person?  Watch the service on our YouTube Channel.
URL:https://saintlukemountjoy.org/event/16th-sunday-after-pentecost-service-of-holy-eucharist-rite-ii/
LOCATION:Saint Luke Episcopal Church\, Mount Joy PA
CATEGORIES:Community Events,Holy Eucharist
ATTACH;FMTTYPE=image/png:https://saintlukemountjoy.org/wp-content/uploads/Homecoming-flyer-9-28-25.png
END:VEVENT
END:VCALENDAR